BEGIN:VCALENDAR
VERSION:2.0
PRODID:-//ChamberMaster//Event Calendar 2.0//EN
METHOD:PUBLISH
X-PUBLISHED-TTL:P3D
REFRESH-INTERVAL:P3D
CALSCALE:GREGORIAN
BEGIN:VEVENT
DTSTART:20260425T130000Z
DTEND:20260426T200000Z
X-MICROSOFT-CDO-ALLDAYEVENT:FALSE
SUMMARY:Spring Spectacular Cat Show
DESCRIPTION:Get ready for the fluffiest event of the season! Join us at the TECO Expo Hall in Plant City for a spectacular weekend showcasing the most beautiful cats around. Whether you're a Persian cat fan or a tabby lover. There's something for everyone.
X-ALT-DESC;FMTTYPE=text/html:Get ready for the fluffiest event of the season! Join us at the TECO Expo Hall in Plant City for a spectacular weekend showcasing the most beautiful cats around. Whether you&#39\;re a Persian cat fan or a tabby lover. There&#39\;s something for everyone.
LOCATION:TECO Expo Hall. 2301 W Oak Ave.\, Plant City\, FL
UID:e.2462.18052
SEQUENCE:3
DTSTAMP:20260426T024929Z
URL:http://plantcity.smartcms.site/events/details/spring-spectacular-cat-show-18052
END:VEVENT

END:VCALENDAR
