BEGIN:VCALENDAR
VERSION:2.0
PRODID:-//ChamberMaster//Event Calendar 2.0//EN
METHOD:PUBLISH
X-PUBLISHED-TTL:P3D
REFRESH-INTERVAL:P3D
CALSCALE:GREGORIAN
BEGIN:VEVENT
DTSTART:20260618T213000Z
DTEND:20260618T223000Z
X-MICROSOFT-CDO-ALLDAYEVENT:FALSE
SUMMARY:Leadership Alumni Happy Hour
DESCRIPTION:Calling all Leadership Plant City Alumni - join us for an Alumni Happy Hour hosted at 1916 Irish Pub!\n\n\n\nCome mingle with fellow Leadership Plant City participants and catch up with former classmates during this strictly social networking night!
X-ALT-DESC;FMTTYPE=text/html:Calling all Leadership Plant City Alumni - join us for an Alumni Happy Hour hosted at 1916 Irish Pub!<br />\n<br />\nCome mingle with fellow Leadership Plant City participants and catch up with former classmates during this strictly social networking night!
LOCATION:1916 Irish Pub 2309 Thonotosassa Rd Plant City\, FL 33563
UID:e.2462.18063
SEQUENCE:3
DTSTAMP:20260426T040224Z
URL:http://plantcity.smartcms.site/events/details/leadership-alumni-happy-hour-18063
END:VEVENT

END:VCALENDAR
