BEGIN:VCALENDAR
VERSION:2.0
PRODID:-//ChamberMaster//Event Calendar 2.0//EN
METHOD:PUBLISH
X-PUBLISHED-TTL:P3D
REFRESH-INTERVAL:P3D
CALSCALE:GREGORIAN
BEGIN:VEVENT
DTSTART:20260425T110000Z
DTEND:20260425T123000Z
X-MICROSOFT-CDO-ALLDAYEVENT:FALSE
SUMMARY:Inaugural Catch me if you can 5k
DESCRIPTION:
X-ALT-DESC;FMTTYPE=text/html:
LOCATION:
UID:e.2462.17868
SEQUENCE:3
DTSTAMP:20260426T042412Z
URL:http://plantcity.smartcms.site/events/details/inaugural-catch-me-if-you-can-5k-17868
END:VEVENT

END:VCALENDAR
