BEGIN:VCALENDAR
VERSION:2.0
PRODID:-//ChamberMaster//Event Calendar 2.0//EN
METHOD:PUBLISH
X-PUBLISHED-TTL:P3D
REFRESH-INTERVAL:P3D
CALSCALE:GREGORIAN
BEGIN:VEVENT
DTSTART:20260420T223000Z
DTEND:20260420T233000Z
X-MICROSOFT-CDO-ALLDAYEVENT:FALSE
SUMMARY:Improvement League of Plant City CDC
DESCRIPTION:Improvement League of Plant City CDC
X-ALT-DESC;FMTTYPE=text/html:Improvement League of Plant City CDC&nbsp\;&nbsp\;&nbsp\;&nbsp\;
LOCATION:Bing House Museum 205 South Allen Street Plant City\, FL 33563
UID:e.2462.2224
SEQUENCE:3
DTSTAMP:20260426T042512Z
URL:http://plantcity.smartcms.site/events/details/improvement-league-of-plant-city-cdc-04-20-2026-2224
END:VEVENT

END:VCALENDAR
